
BEGIN:VCALENDAR
VERSION:2.0
PRODID:-//Musikschule Lilienfeld- Hainfeld im Gemeindeverband Traisen-Gölsental - ECPv6.15.17.1//NONSGML v1.0//EN
CALSCALE:GREGORIAN
METHOD:PUBLISH
X-ORIGINAL-URL:https://ms-lilienfeld-hainfeld.at
X-WR-CALDESC:Veranstaltungen für Musikschule Lilienfeld- Hainfeld im Gemeindeverband Traisen-Gölsental
REFRESH-INTERVAL;VALUE=DURATION:PT1H
X-Robots-Tag:noindex
X-PUBLISHED-TTL:PT1H
BEGIN:VTIMEZONE
TZID:Europe/Vienna
BEGIN:DAYLIGHT
TZOFFSETFROM:+0100
TZOFFSETTO:+0200
TZNAME:CEST
DTSTART:20250330T010000
END:DAYLIGHT
BEGIN:STANDARD
TZOFFSETFROM:+0200
TZOFFSETTO:+0100
TZNAME:CET
DTSTART:20251026T010000
END:STANDARD
BEGIN:DAYLIGHT
TZOFFSETFROM:+0100
TZOFFSETTO:+0200
TZNAME:CEST
DTSTART:20260329T010000
END:DAYLIGHT
BEGIN:STANDARD
TZOFFSETFROM:+0200
TZOFFSETTO:+0100
TZNAME:CET
DTSTART:20261025T010000
END:STANDARD
BEGIN:DAYLIGHT
TZOFFSETFROM:+0100
TZOFFSETTO:+0200
TZNAME:CEST
DTSTART:20270328T010000
END:DAYLIGHT
BEGIN:STANDARD
TZOFFSETFROM:+0200
TZOFFSETTO:+0100
TZNAME:CET
DTSTART:20271031T010000
END:STANDARD
END:VTIMEZONE
BEGIN:VEVENT
DTSTART;TZID=Europe/Vienna:20260623T181500
DTEND;TZID=Europe/Vienna:20260623T193000
DTSTAMP:20260422T190040
CREATED:20260317T131027Z
LAST-MODIFIED:20260317T131033Z
UID:4071-1782238500-1782243000@ms-lilienfeld-hainfeld.at
SUMMARY:Vortragsabend Klavierklasse
DESCRIPTION:Es musizieren Musikschülerinnen und Musikschüler der Klavierklasse von Nya Gabmaier-Cass.
URL:https://ms-lilienfeld-hainfeld.at/veranstaltung/vortragsabend-klavierklasse-2/
LOCATION:Kultursaal Hainfeld\, Hauptstraße 5\, Hainfeld\, 3170
END:VEVENT
END:VCALENDAR